BEGIN:VCALENDAR
VERSION:2.0
PRODID:-//LA ANTIGUA GUATEMALA - ECPv6.0.3.1//NONSGML v1.0//EN
CALSCALE:GREGORIAN
METHOD:PUBLISH
X-WR-CALNAME:LA ANTIGUA GUATEMALA
X-ORIGINAL-URL:https://webmail.laantiguaguatemala.com
X-WR-CALDESC:Events for LA ANTIGUA GUATEMALA
REFRESH-INTERVAL;VALUE=DURATION:PT1H
X-Robots-Tag:noindex
X-PUBLISHED-TTL:PT1H
BEGIN:VTIMEZONE
TZID:UTC
BEGIN:STANDARD
TZOFFSETFROM:+0000
TZOFFSETTO:+0000
TZNAME:UTC
DTSTART:20240101T000000
END:STANDARD
END:VTIMEZONE
BEGIN:VEVENT
DTSTART;TZID=UTC:20240927T090000
DTEND;TZID=UTC:20241027T180000
DTSTAMP:20260420T110555
CREATED:20240902T164846Z
LAST-MODIFIED:20240902T164846Z
UID:10003832-1727427600-1730052000@webmail.laantiguaguatemala.com
SUMMARY:Exposición fotográfica "retrospectiva de una vida silvestre"
DESCRIPTION:Del artista: Peter Rockstroh
URL:https://webmail.laantiguaguatemala.com/event/exposicion-fotografica-retrospectiva-de-una-vida-silvestre/
LOCATION:Atardeceres musicales – Proyecto Luis de Lión\, Santa Inés del Monte Pulciano
END:VEVENT
BEGIN:VEVENT
DTSTART;TZID=UTC:20241001T100000
DTEND;TZID=UTC:20241031T120000
DTSTAMP:20260420T110556
CREATED:20241001T164522Z
LAST-MODIFIED:20241001T164522Z
UID:10003855-1727776800-1730376000@webmail.laantiguaguatemala.com
SUMMARY:Curso de Marimba
DESCRIPTION:Impartido por integrantes de la Marimba de Concierto de la USAC
URL:https://webmail.laantiguaguatemala.com/event/curso-de-marimba/
LOCATION:Atardeceres musicales – Proyecto Luis de Lión\, Santa Inés del Monte Pulciano
END:VEVENT
BEGIN:VEVENT
DTSTART;TZID=UTC:20241005T090000
DTEND;TZID=UTC:20241026T120000
DTSTAMP:20260420T110556
CREATED:20241001T164344Z
LAST-MODIFIED:20241001T164344Z
UID:10003854-1728118800-1729944000@webmail.laantiguaguatemala.com
SUMMARY:Curso de Danza
DESCRIPTION:Impartido por epesistas de la Escuela Superior de Arte
URL:https://webmail.laantiguaguatemala.com/event/curso-de-danza/
LOCATION:Atardeceres musicales – Proyecto Luis de Lión\, Santa Inés del Monte Pulciano
END:VEVENT
BEGIN:VEVENT
DTSTART;TZID=UTC:20241007T090000
DTEND;TZID=UTC:20241028T120000
DTSTAMP:20260420T110556
CREATED:20241001T163826Z
LAST-MODIFIED:20241001T164219Z
UID:10003850-1728291600-1730116800@webmail.laantiguaguatemala.com
SUMMARY:Curso de Jardinería - Innovación verde
DESCRIPTION:
URL:https://webmail.laantiguaguatemala.com/event/curso-de-jardineria-innovacion-verde/2024-10-07/
LOCATION:Atardeceres musicales – Proyecto Luis de Lión\, Santa Inés del Monte Pulciano
END:VEVENT
BEGIN:VEVENT
DTSTART;TZID=UTC:20241009T180000
DTEND;TZID=UTC:20241009T200000
DTSTAMP:20260420T110556
CREATED:20241001T154748Z
LAST-MODIFIED:20241001T155036Z
UID:10003839-1728496800-1728504000@webmail.laantiguaguatemala.com
SUMMARY:Vino y pintura
DESCRIPTION:¡Este mes\, nuestro evento de vino y pintura se muda! Únanse a nosotros en el hermoso espacio del hotel El Pensativo para una velada donde se les proporcionará todo el material necesario para que puedan pintar con el tema de la “nature morte”. ¡ Y se les ofrecerá una copa de vino! \nInscripción previa por whatsapp +502 5620 6008  (cupos limitados)
URL:https://webmail.laantiguaguatemala.com/event/vino-y-pintura/
LOCATION:Atardeceres musicales – Proyecto Luis de Lión\, Santa Inés del Monte Pulciano
END:VEVENT
END:VCALENDAR